BEGIN:VCALENDAR
VERSION:2.0
PRODID:-//hacksw/handcal//NONSGML v1.0//EN
BEGIN:VEVENT
SUMMARY:Interclub de Morestel
UID:c3bc5b7b-9630-45a0-8edc-ce8c393328a1
DTSTART:20260502T220000Z
DTEND:20260503T220000Z
LOCATION:Localisation 486 rue Paul Claudel 38510 Morestel
CATEGORIES:Sportif
STATUS:
DESCRIPTION:<p><strong>Interclub de Morestel</strong></p>
 
 <p>Salle
 Robert Calza (a Cote du Lycee de Morestel), 486 rue Paul
 Claudel</p>
 
 <p>Pour les judokas a partir de la ceinture blanche -
 Inscription en reponse a l'annonce sur Whatsapp avant le 29
 avril.</p>
 
 <p> </p>
 
 <p><strong>Horaires des
 pesees</strong></p>
 
 <p>Babys, ne(e)s en 2020-2021 :</p>
 
 <table
 border="1" cellpadding="3"
 cellspacing="0">
 	<tbody>
 		<tr>
 			<td>Toutes categories de
 poids</td>
 			<td> 9h00 a
 9h30</td>
 		</tr>
 	</tbody>
 </table>
 
 <p> </p>
 
 <p>Mini-Poussins/Mini-Poussines,
 ne(e)s en 2018-2019 :</p>
 
 <table border="1" cellpadding="3"
 cellspacing="0">
 	<tbody>
 		<tr>
 			<td><span
 style="color:#000000;">Moins de 27kg</span></td>
 			<td><span
 style="color:#000000;">10h45 a
 11h15</span></td>
 		</tr>
 		<tr>
 			<td><span
 style="color:#000000;">Plus de 27kg</span></td>
 			<td><span
 style="color:#000000;">11h30 a
 12h00</span></td>
 		</tr>
 	</tbody>
 </table>
 
 <p> </p>
 
 <p>Poussins/Poussines,
 ne(e)s en 2016-2017 :</p>
 
 <table border="1" cellpadding="3"
 cellspacing="0">
 	<tbody>
 		<tr>
 			<td>Moins de
 32kg</td>
 			<td>13h15 a 13h45</td>
 		</tr>
 		<tr>
 			<td>Plus de
 32kg</td>
 			<td>14h00
 a 14h30</td>
 		</tr>
 	</tbody>
 </table>
 
 <p> </p>
 
 <p>Prix d'entree
 adultes +16ans : 2,50 €</p>
 
 <p>Restauration et buvette sur
 place</p>
URL;VALUE=URI:https://www.jcni.fr/evenements/2026/05/03/interclub-de-morestel-2443476
END:VEVENT
END:VCALENDAR
